BEGIN:VCALENDAR
VERSION:2.0
PRODID:-//wp-events-plugin.com//7.2.3.1//EN
TZID:Europe/Paris
X-WR-TIMEZONE:Europe/Paris
BEGIN:VEVENT
UID:13@emmaus73.fr
DTSTART;TZID=Europe/Paris:20230809T000000
DTEND;TZID=Europe/Paris:20230902T000000
DTSTAMP:20230721T120639Z
URL:https://www.emmaus73.fr/events/vente-scolaire-du-9-aout-au-2-septembre
 /
SUMMARY:Vente Scolaire\, du 9 aout au 2 septembre
DESCRIPTION:
END:VEVENT
BEGIN:VTIMEZONE
TZID:Europe/Paris
X-LIC-LOCATION:Europe/Paris
BEGIN:DAYLIGHT
DTSTART:20230326T030000
TZOFFSETFROM:+0100
TZOFFSETTO:+0200
TZNAME:CEST
END:DAYLIGHT
END:VTIMEZONE
END:VCALENDAR