BEGIN:VCALENDAR
VERSION:2.0
PRODID:-//wp-events-plugin.com//7.2.3.1//EN
TZID:Europe/Paris
X-WR-TIMEZONE:Europe/Paris
BEGIN:VEVENT
UID:15@emmaus73.fr
DTSTART;TZID=Europe/Paris:20231011T000000
DTEND;TZID=Europe/Paris:20231021T000000
DTSTAMP:20231018T091714Z
URL:https://www.emmaus73.fr/events/vente-a-theme-beaux-objets/
SUMMARY:vente à thème Beaux objets
DESCRIPTION:
CATEGORIES:Vente
END:VEVENT
BEGIN:VTIMEZONE
TZID:Europe/Paris
X-LIC-LOCATION:Europe/Paris
BEGIN:DAYLIGHT
DTSTART:20230326T030000
TZOFFSETFROM:+0100
TZOFFSETTO:+0200
TZNAME:CEST
END:DAYLIGHT
END:VTIMEZONE
END:VCALENDAR